BEGIN:VCALENDAR
VERSION:2.0
PRODID:-//wp-events-plugin.com//5.99912//EN
TZID:Europe/Paris
X-WR-TIMEZONE:Europe/Paris
BEGIN:VEVENT
UID:0-463@snaculture.fr
DTSTART;TZID=Europe/Paris:20260513T150000
DTEND;TZID=Europe/Paris:20260513T160000
DTSTAMP:20260330T101933Z
URL:https://www.snaculture.fr/evenements/apres-midi-jeux-musicaux/
SUMMARY:Jouer en réalité virtuelle !
DESCRIPTION:Venez jouer à un jeu-vidéo avec un casque de réalité virtue
 lle.\nA partir de 8 ans\, sans les parents Gratuit sur inscription sur pl
 ace dans les médiathèques du réseau\, en ligne ou au 02 32 54 87 10\nVo
 ir sur le site des médiathèques
ATTACH;FMTTYPE=image/jpeg:https://www.snaculture.fr/app/uploads/2024/06/Re
 alite-virtuelle.png
CATEGORIES:Numérique,SNAC
LOCATION:Médiathèque de Saint-Marcel\, 3 rue Jules Ferry3 rue Jules Ferry
  27950  Saint-Marcel\, France
X-APPLE-STRUCTURED-LOCATION;VALUE=URI;X-ADDRESS=3 rue Jules Ferry3 rue Jule
 s Ferry 27950  Saint-Marcel\, France;X-APPLE-RADIUS=100;X-TITLE=Médiathè
 que de Saint-Marcel:geo:0,0
END:VEVENT
BEGIN:VTIMEZONE
TZID:Europe/Paris
X-LIC-LOCATION:Europe/Paris
BEGIN:DAYLIGHT
DTSTART:20260329T030000
TZOFFSETFROM:+0100
TZOFFSETTO:+0200
TZNAME:CEST
END:DAYLIGHT
END:VTIMEZONE
END:VCALENDAR